BEGIN:VCALENDAR
VERSION:2.0
PRODID:-//Enrico Berlinguer - ECPv6.15.20//NONSGML v1.0//EN
CALSCALE:GREGORIAN
METHOD:PUBLISH
X-WR-CALNAME:Enrico Berlinguer
X-ORIGINAL-URL:https://www.enricoberlinguer.it
X-WR-CALDESC:Eventi per Enrico Berlinguer
REFRESH-INTERVAL;VALUE=DURATION:PT1H
X-Robots-Tag:noindex
X-PUBLISHED-TTL:PT1H
BEGIN:VTIMEZONE
TZID:Europe/Rome
BEGIN:DAYLIGHT
TZOFFSETFROM:+0100
TZOFFSETTO:+0200
TZNAME:CEST
DTSTART:20230326T010000
END:DAYLIGHT
BEGIN:STANDARD
TZOFFSETFROM:+0200
TZOFFSETTO:+0100
TZNAME:CET
DTSTART:20231029T010000
END:STANDARD
BEGIN:DAYLIGHT
TZOFFSETFROM:+0100
TZOFFSETTO:+0200
TZNAME:CEST
DTSTART:20240331T010000
END:DAYLIGHT
BEGIN:STANDARD
TZOFFSETFROM:+0200
TZOFFSETTO:+0100
TZNAME:CET
DTSTART:20241027T010000
END:STANDARD
BEGIN:DAYLIGHT
TZOFFSETFROM:+0100
TZOFFSETTO:+0200
TZNAME:CEST
DTSTART:20250330T010000
END:DAYLIGHT
BEGIN:STANDARD
TZOFFSETFROM:+0200
TZOFFSETTO:+0100
TZNAME:CET
DTSTART:20251026T010000
END:STANDARD
END:VTIMEZONE
BEGIN:VEVENT
DTSTART;TZID=Europe/Rome:20241001T210000
DTEND;TZID=Europe/Rome:20241001T220000
DTSTAMP:20260420T155801
CREATED:20240923T220851Z
LAST-MODIFIED:20241024T222012Z
UID:46753-1727816400-1727820000@www.enricoberlinguer.it
SUMMARY:Gubbio\, presentazione di "Per Enrico\, per Esempio"
DESCRIPTION:Gubbio. Martedì 1° ottobre alle h 21:00\, Pierpaolo Farina presenta il libro “Per Enrico\, Per Esempio. L’eredità politica di Enrico Berlinguer” presso Società Operaia di Mutuo Soccorso di Via Gabrielli 24.  \nAlla presentazione\, organizzata dall’Associazione In Movimento\, intervengono Diego Guerrini\, consigliere comunale\, già sindaco di Gubbio; Eleonora Mori\, Presidente dell’Associazione In Movimento\, e Ulisse Fata\, presidente della Società Operaia di Mutuo Soccorso di Gubbio. \n\n\n\nSul libro “Per Enrico\, per Esempio”\n\n\n\nEnrico Berlinguer continua a essere il leader politico più amato della storia repubblicana: idee\, tensione morale e passione politica dell’ex-Segretario del Partito Comunista Italiano sono ancora oggi presi ad esempio\, persino da chi è nato molti anni dopo la sua morte. \nPierpaolo Farina\, sociologo e saggista\, già fondatore nel 2009 della web-community di enricoberlinguer.it che conta oltre mezzo milione di persone\, in questo libro traccia un profilo dettagliato del leader del più grande partito comunista d’Occidente\, analizzandone la visione e il contesto storico\, e ne setaccia l’eredità. \nPer informazioni sul libro e per richieste di presentazione\, consultate la pagina di riferimento del libro.
URL:https://www.enricoberlinguer.it/evento/gubbio-per-enrico-per-esempio/
LOCATION:Società Operaia di Mutuo Soccorso di Gubbio\, Via Gabrielli 24\, Gubbio\, 06024\, Italy
CATEGORIES:Presentazioni Libro Berlinguer
ATTACH;FMTTYPE=image/jpeg:https://www.enricoberlinguer.it/wp-content/uploads/2024/09/cover-gubbio-instagram.jpg
END:VEVENT
END:VCALENDAR