BEGIN:VCALENDAR
VERSION:2.0
PRODID:-//Enrico Berlinguer - ECPv6.15.20//NONSGML v1.0//EN
CALSCALE:GREGORIAN
METHOD:PUBLISH
X-ORIGINAL-URL:https://www.enricoberlinguer.it
X-WR-CALDESC:Eventi per Enrico Berlinguer
REFRESH-INTERVAL;VALUE=DURATION:PT1H
X-Robots-Tag:noindex
X-PUBLISHED-TTL:PT1H
BEGIN:VTIMEZONE
TZID:Europe/Rome
BEGIN:DAYLIGHT
TZOFFSETFROM:+0100
TZOFFSETTO:+0200
TZNAME:CEST
DTSTART:20230326T010000
END:DAYLIGHT
BEGIN:STANDARD
TZOFFSETFROM:+0200
TZOFFSETTO:+0100
TZNAME:CET
DTSTART:20231029T010000
END:STANDARD
BEGIN:DAYLIGHT
TZOFFSETFROM:+0100
TZOFFSETTO:+0200
TZNAME:CEST
DTSTART:20240331T010000
END:DAYLIGHT
BEGIN:STANDARD
TZOFFSETFROM:+0200
TZOFFSETTO:+0100
TZNAME:CET
DTSTART:20241027T010000
END:STANDARD
BEGIN:DAYLIGHT
TZOFFSETFROM:+0100
TZOFFSETTO:+0200
TZNAME:CEST
DTSTART:20250330T010000
END:DAYLIGHT
BEGIN:STANDARD
TZOFFSETFROM:+0200
TZOFFSETTO:+0100
TZNAME:CET
DTSTART:20251026T010000
END:STANDARD
END:VTIMEZONE
BEGIN:VEVENT
DTSTART;TZID=Europe/Rome:20241108T210000
DTEND;TZID=Europe/Rome:20241108T220000
DTSTAMP:20260420T143601
CREATED:20241025T093837Z
LAST-MODIFIED:20250213T114040Z
UID:46819-1731099600-1731103200@www.enricoberlinguer.it
SUMMARY:Grottazzolina\, presentazione di "Per Enrico\, Per Esempio"
DESCRIPTION:Grottazzolina. Venerdì 8 novembre 2024\, alle h 21:00\, Pierpaolo Farina presenta il libro “Per Enrico\, Per Esempio. L’eredità politica di Enrico Berlinguer” presso la Sala John Lennon\, in Strada Fonte Rotta. \nL’evento\, organizzato da diverse associazioni locali\, sarà moderato da Maurizio Blasi di Articolo 21. \n\n\n\nSul libro “Per Enrico\, per Esempio”\n\n\n\nEnrico Berlinguer continua a essere il leader politico più amato della storia repubblicana: idee\, tensione morale e passione politica dell’ex-Segretario del Partito Comunista Italiano sono ancora oggi presi ad esempio\, persino da chi è nato molti anni dopo la sua morte. \nPierpaolo Farina\, sociologo e saggista\, già fondatore nel 2009 della web-community di enricoberlinguer.it che conta oltre mezzo milione di persone\, in questo libro traccia un profilo dettagliato del leader del più grande partito comunista d’Occidente\, analizzandone la visione e il contesto storico\, e ne setaccia l’eredità. \nPer informazioni sul libro e per richieste di presentazione\, consultate la pagina di riferimento del libro.
URL:https://www.enricoberlinguer.it/evento/grottazzolina-per-enrico-per-esempio/
LOCATION:Sala John Lennon\, Strada Fonte Rotta\, Grottazzolina\, 63844\, Italy
CATEGORIES:Presentazioni Libro Berlinguer
ATTACH;FMTTYPE=image/jpeg:https://www.enricoberlinguer.it/wp-content/uploads/2024/10/2024_11_08_Grottazzolina-Instagram.jpg
END:VEVENT
END:VCALENDAR